Workbook

Sheet 학생부 입력 및 결과
A1: 2027 학년도 | B1: 학생부교과 (고교추천전형) | E1: 논술 (논술우수자전형) | H1: 실기/실적 (체육우수자(축구)전형) | U1: *50% cut: 모집단위 별 등록한 인원의 50%에 해당하는(소수점 버림) 등수의 환산점수 ex) 9명을 모집하는 모집단위의 경우 등록한 인원 9명 중 4등(9×0.5=4.5)의 환산점수 *70% cut: 모집단위 별 등록한 인원의 70%에 해당하는(소수점 버림) 등수의 환산점수 ex) 9명을 모집하는 모집단위의 경우 등록한 인원 9명 중 6등(9×0.7=6.3)의 환산점수
B3: 학생부 환산점수 | E3: 학생부 환산점수 | H3: 학생부 환산점수
B4: =IFERROR(계산!D2,"성적 입력 필요") -> 성적 입력 필요 | E4: =IFERROR(계산!E2,"성적 입력 필요") -> 성적 입력 필요 | H4: =IFERROR(IF(E5="","미인정 결석 입력 필요",계산!F2),"성적 입력 필요") -> 성적 입력 필요
A5: 미인정 결석 입력 | D5: 총 | E5: 1 | F5: 회 | G5: 출결점수(배점 1점) | J5: =계산!G2 -> 1
A6: ※ 실기/실적(체육우수자(축구)전형)의 경우 미인정 결석을 입력해야 학생부 환산점수 계산이 가능합니다. ※ 학생부교과(고교추천전형)과 논술(논술우수자전형)은 출결을 반영하지 않습니다.
A7: 진로선택과목 입력(①성취도 높은 순, ②이수단위 높은 순)
A8: 1 | C8: 2 | E8: 3 | G8: 4 | I8: 5
A9: 단위수 | B9: 성취도 | C9: 단위수 | D9: 성취도 | E9: 단위수 | F9: 성취도 | G9: 단위수 | H9: 성취도 | I9: 단위수 | J9: 성취도
A11: 공통과목, 일반선택과목 (9등급) 입력
A12: 국어 | C12: 수학 | E12: 영어 | G12: 과학 | I12: 사회
A13: 단위수 | B13: 등급 | C13: 단위수 | D13: 등급 | E13: 단위수 | F13: 등급 | G13: 단위수 | H13: 등급 | I13: 단위수 | J13: 등급

Sheet 계산
A1: 이수단위합 | B1: 이수*환산 합 | C1: 교과점수 | D1: 교과전형 | E1: 논술 | F1: 축구 | G1: 출결점수 | L1: 1 | M1: 2 | N1: 3 | O1: 4 | P1: 5 | Q1: 6 | R1: 7 | S1: 8 | T1: 9
A2: =IF(COUNTA('학생부 입력 및 결과'!A10,'학생부 입력 및 결과'!C10,'학생부 입력 및 결과'!E10,'학생부 입력 및 결과'!G10,'학생부 입력 및 결과'!I10,'학생부 입력 및 결과'!A14:A31,'학생부 입력 및 결과'!C14:C31,'학생부 입력 및 결과'!E14:E31,'학생부 입력 및 결과'!G14:G31,'학생부 입력 및 결과'!I14:I31)=COUNTA('학생부 입력 및 결과'!B10,'학생부 입력 및 결과'!D10,'학생부 입력 및 결과'!F10,'학생부 입력 및 결과'!H10,'학생부 입력 및 결과'!J10,'학생부 입력 및 결과'!B14:B31,'학생부 입력 및 결과'!D14:D31,'학생부 입력 및 결과'!F14:F31,'학생부 입력 및 결과'!H14:H31,'학생부 입력 및 결과'!J14:J31),SUM('학생부 입력 및 결과'!A10,'학생부 입력 및 결과'!C10,'학생부 입력 및 결과'!E10,'학생부 입력 및 결과'!G10,'학생부 입력 및 결과'!I10,SUM('학생부 입력 및 결과'!A14:A31),SUM('학생부 입력 및 결과'!C14:C31),SUM('학생부 입력 및 결과'!E14:E31),SUM('학생부 입력 및 결과'!G14:G31),SUM('학생부 입력 및 결과'!I14:I31)),"") -> 0 | B2: =SUM(SUM(A7:E7),SUM(A11:E28)) -> 0 | C2: =B2/A2 -> #DIV/0! | D2: =C2 -> #DIV/0! | E2: =C2*0.2 -> #DIV/0! | F2: =C2*0.04+INDEX($N$5:$N$9,MATCH('학생부 입력 및 결과'!$E$5,$O$5:$O$9,-1)) -> #DIV/0! | G2: =INDEX($N$5:$N$9,MATCH('학생부 입력 및 결과'!$E$5,$O$5:$O$9,-1)) -> 1 | L2: 100 | M2: 99 | N2: 98 | O2: 95 | P2: 90 | Q2: 85 | R2: 75 | S2: 65 | T2: 0
L3: A | N3: B | P3: C
A4: 진로선택과목
A5: 1 | B5: 2 | C5: 3 | D5: 4 | E5: 5 | N5: 0 | O5: 99999
A6: 이수*환산 | B6: 이수*환산 | C6: 이수*환산 | D6: 이수*환산 | E6: 이수*환산 | N6: 0.4 | O6: 20
A7: {=IF(OR('학생부 입력 및 결과'!A10="",'학생부 입력 및 결과'!B10=""),"",'학생부 입력 및 결과'!A10*INDEX($L$2:$T$2,,MATCH('학생부 입력 및 결과'!B10,$L$3:$T$3,0)))} | B7: {=IF(OR('학생부 입력 및 결과'!C10="",'학생부 입력 및 결과'!D10=""),"",'학생부 입력 및 결과'!C10*INDEX($L$2:$T$2,,MATCH('학생부 입력 및 결과'!D10,$L$3:$T$3,0)))} | C7: {=IF(OR('학생부 입력 및 결과'!E10="",'학생부 입력 및 결과'!F10=""),"",'학생부 입력 및 결과'!E10*INDEX($L$2:$T$2,,MATCH('학생부 입력 및 결과'!F10,$L$3:$T$3,0)))} | D7: {=IF(OR('학생부 입력 및 결과'!G10="",'학생부 입력 및 결과'!H10=""),"",'학생부 입력 및 결과'!G10*INDEX($L$2:$T$2,,MATCH('학생부 입력 및 결과'!H10,$L$3:$T$3,0)))} | E7: {=IF(OR('학생부 입력 및 결과'!I10="",'학생부 입력 및 결과'!J10=""),"",'학생부 입력 및 결과'!I10*INDEX($L$2:$T$2,,MATCH('학생부 입력 및 결과'!J10,$L$3:$T$3,0)))} | N7: 0.6 | O7: 15
A8: 공통과목, 일반선택과목 | N8: 0.8 | O8: 10
A9: 국어 | B9: 수학 | C9: 영어 | D9: 과학 | E9: 사회 | N9: 1 | O9: 5
A10: 이수*환산 | B10: 이수*환산 | C10: 이수*환산 | D10: 이수*환산 | E10: 이수*환산
A11: {=IF(OR('학생부 입력 및 결과'!A14="",'학생부 입력 및 결과'!B14=""),"",'학생부 입력 및 결과'!A14*INDEX($L$2:$T$2,,MATCH('학생부 입력 및 결과'!B14,$L$1:$T$1,0)))} | B11: {=IF(OR('학생부 입력 및 결과'!C14="",'학생부 입력 및 결과'!D14=""),"",'학생부 입력 및 결과'!C14*INDEX($L$2:$T$2,,MATCH('학생부 입력 및 결과'!D14,$L$1:$T$1,0)))} | C11: {=IF(OR('학생부 입력 및 결과'!E14="",'학생부 입력 및 결과'!F14=""),"",'학생부 입력 및 결과'!E14*INDEX($L$2:$T$2,,MATCH('학생부 입력 및 결과'!F14,$L$1:$T$1,0)))} | D11: {=IF(OR('학생부 입력 및 결과'!G14="",'학생부 입력 및 결과'!H14=""),"",'학생부 입력 및 결과'!G14*INDEX($L$2:$T$2,,MATCH('학생부 입력 및 결과'!H14,$L$1:$T$1,0)))} | E11: {=IF(OR('학생부 입력 및 결과'!I14="",'학생부 입력 및 결과'!J14=""),"",'학생부 입력 및 결과'!I14*INDEX($L$2:$T$2,,MATCH('학생부 입력 및 결과'!J14,$L$1:$T$1,0)))}
A12: {=IF(OR('학생부 입력 및 결과'!A15="",'학생부 입력 및 결과'!B15=""),"",'학생부 입력 및 결과'!A15*INDEX($L$2:$T$2,,MATCH('학생부 입력 및 결과'!B15,$L$1:$T$1,0)))} | B12: {=IF(OR('학생부 입력 및 결과'!C15="",'학생부 입력 및 결과'!D15=""),"",'학생부 입력 및 결과'!C15*INDEX($L$2:$T$2,,MATCH('학생부 입력 및 결과'!D15,$L$1:$T$1,0)))} | C12: {=IF(OR('학생부 입력 및 결과'!E15="",'학생부 입력 및 결과'!F15=""),"",'학생부 입력 및 결과'!E15*INDEX($L$2:$T$2,,MATCH('학생부 입력 및 결과'!F15,$L$1:$T$1,0)))} | D12: {=IF(OR('학생부 입력 및 결과'!G15="",'학생부 입력 및 결과'!H15=""),"",'학생부 입력 및 결과'!G15*INDEX($L$2:$T$2,,MATCH('학생부 입력 및 결과'!H15,$L$1:$T$1,0)))} | E12: {=IF(OR('학생부 입력 및 결과'!I15="",'학생부 입력 및 결과'!J15=""),"",'학생부 입력 및 결과'!I15*INDEX($L$2:$T$2,,MATCH('학생부 입력 및 결과'!J15,$L$1:$T$1,0)))}
A13: {=IF(OR('학생부 입력 및 결과'!A16="",'학생부 입력 및 결과'!B16=""),"",'학생부 입력 및 결과'!A16*INDEX($L$2:$T$2,,MATCH('학생부 입력 및 결과'!B16,$L$1:$T$1,0)))} | B13: {=IF(OR('학생부 입력 및 결과'!C16="",'학생부 입력 및 결과'!D16=""),"",'학생부 입력 및 결과'!C16*INDEX($L$2:$T$2,,MATCH('학생부 입력 및 결과'!D16,$L$1:$T$1,0)))} | C13: {=IF(OR('학생부 입력 및 결과'!E16="",'학생부 입력 및 결과'!F16=""),"",'학생부 입력 및 결과'!E16*INDEX($L$2:$T$2,,MATCH('학생부 입력 및 결과'!F16,$L$1:$T$1,0)))} | D13: {=IF(OR('학생부 입력 및 결과'!G16="",'학생부 입력 및 결과'!H16=""),"",'학생부 입력 및 결과'!G16*INDEX($L$2:$T$2,,MATCH('학생부 입력 및 결과'!H16,$L$1:$T$1,0)))} | E13: {=IF(OR('학생부 입력 및 결과'!I16="",'학생부 입력 및 결과'!J16=""),"",'학생부 입력 및 결과'!I16*INDEX($L$2:$T$2,,MATCH('학생부 입력 및 결과'!J16,$L$1:$T$1,0)))}
A14: {=IF(OR('학생부 입력 및 결과'!A17="",'학생부 입력 및 결과'!B17=""),"",'학생부 입력 및 결과'!A17*INDEX($L$2:$T$2,,MATCH('학생부 입력 및 결과'!B17,$L$1:$T$1,0)))} | B14: {=IF(OR('학생부 입력 및 결과'!C17="",'학생부 입력 및 결과'!D17=""),"",'학생부 입력 및 결과'!C17*INDEX($L$2:$T$2,,MATCH('학생부 입력 및 결과'!D17,$L$1:$T$1,0)))} | C14: {=IF(OR('학생부 입력 및 결과'!E17="",'학생부 입력 및 결과'!F17=""),"",'학생부 입력 및 결과'!E17*INDEX($L$2:$T$2,,MATCH('학생부 입력 및 결과'!F17,$L$1:$T$1,0)))} | D14: {=IF(OR('학생부 입력 및 결과'!G17="",'학생부 입력 및 결과'!H17=""),"",'학생부 입력 및 결과'!G17*INDEX($L$2:$T$2,,MATCH('학생부 입력 및 결과'!H17,$L$1:$T$1,0)))} | E14: {=IF(OR('학생부 입력 및 결과'!I17="",'학생부 입력 및 결과'!J17=""),"",'학생부 입력 및 결과'!I17*INDEX($L$2:$T$2,,MATCH('학생부 입력 및 결과'!J17,$L$1:$T$1,0)))} | K14: =COUNTA('학생부 입력 및 결과'!A10,'학생부 입력 및 결과'!C10,'학생부 입력 및 결과'!E10,'학생부 입력 및 결과'!G10,'학생부 입력 및 결과'!I10,'학생부 입력 및 결과'!A14:A31,'학생부 입력 및 결과'!C14:C31,'학생부 입력 및 결과'!E14:E31,'학생부 입력 및 결과'!G14:G31,'학생부 입력 및 결과'!I14:I31) -> 0 | L14: =COUNTA('학생부 입력 및 결과'!B10,'학생부 입력 및 결과'!D10,'학생부 입력 및 결과'!F10,'학생부 입력 및 결과'!H10,'학생부 입력 및 결과'!J10,'학생부 입력 및 결과'!B14:B31,'학생부 입력 및 결과'!D14:D31,'학생부 입력 및 결과'!F14:F31,'학생부 입력 및 결과'!H14:H31,'학생부 입력 및 결과'!J14:J31) -> 0
A15: {=IF(OR('학생부 입력 및 결과'!A18="",'학생부 입력 및 결과'!B18=""),"",'학생부 입력 및 결과'!A18*INDEX($L$2:$T$2,,MATCH('학생부 입력 및 결과'!B18,$L$1:$T$1,0)))} | B15: {=IF(OR('학생부 입력 및 결과'!C18="",'학생부 입력 및 결과'!D18=""),"",'학생부 입력 및 결과'!C18*INDEX($L$2:$T$2,,MATCH('학생부 입력 및 결과'!D18,$L$1:$T$1,0)))} | C15: {=IF(OR('학생부 입력 및 결과'!E18="",'학생부 입력 및 결과'!F18=""),"",'학생부 입력 및 결과'!E18*INDEX($L$2:$T$2,,MATCH('학생부 입력 및 결과'!F18,$L$1:$T$1,0)))} | D15: {=IF(OR('학생부 입력 및 결과'!G18="",'학생부 입력 및 결과'!H18=""),"",'학생부 입력 및 결과'!G18*INDEX($L$2:$T$2,,MATCH('학생부 입력 및 결과'!H18,$L$1:$T$1,0)))} | E15: {=IF(OR('학생부 입력 및 결과'!I18="",'학생부 입력 및 결과'!J18=""),"",'학생부 입력 및 결과'!I18*INDEX($L$2:$T$2,,MATCH('학생부 입력 및 결과'!J18,$L$1:$T$1,0)))}
A16: {=IF(OR('학생부 입력 및 결과'!A19="",'학생부 입력 및 결과'!B19=""),"",'학생부 입력 및 결과'!A19*INDEX($L$2:$T$2,,MATCH('학생부 입력 및 결과'!B19,$L$1:$T$1,0)))} | B16: {=IF(OR('학생부 입력 및 결과'!C19="",'학생부 입력 및 결과'!D19=""),"",'학생부 입력 및 결과'!C19*INDEX($L$2:$T$2,,MATCH('학생부 입력 및 결과'!D19,$L$1:$T$1,0)))} | C16: {=IF(OR('학생부 입력 및 결과'!E19="",'학생부 입력 및 결과'!F19=""),"",'학생부 입력 및 결과'!E19*INDEX($L$2:$T$2,,MATCH('학생부 입력 및 결과'!F19,$L$1:$T$1,0)))} | D16: {=IF(OR('학생부 입력 및 결과'!G19="",'학생부 입력 및 결과'!H19=""),"",'학생부 입력 및 결과'!G19*INDEX($L$2:$T$2,,MATCH('학생부 입력 및 결과'!H19,$L$1:$T$1,0)))} | E16: {=IF(OR('학생부 입력 및 결과'!I19="",'학생부 입력 및 결과'!J19=""),"",'학생부 입력 및 결과'!I19*INDEX($L$2:$T$2,,MATCH('학생부 입력 및 결과'!J19,$L$1:$T$1,0)))}
A17: {=IF(OR('학생부 입력 및 결과'!A20="",'학생부 입력 및 결과'!B20=""),"",'학생부 입력 및 결과'!A20*INDEX($L$2:$T$2,,MATCH('학생부 입력 및 결과'!B20,$L$1:$T$1,0)))} | B17: {=IF(OR('학생부 입력 및 결과'!C20="",'학생부 입력 및 결과'!D20=""),"",'학생부 입력 및 결과'!C20*INDEX($L$2:$T$2,,MATCH('학생부 입력 및 결과'!D20,$L$1:$T$1,0)))} | C17: {=IF(OR('학생부 입력 및 결과'!E20="",'학생부 입력 및 결과'!F20=""),"",'학생부 입력 및 결과'!E20*INDEX($L$2:$T$2,,MATCH('학생부 입력 및 결과'!F20,$L$1:$T$1,0)))} | D17: {=IF(OR('학생부 입력 및 결과'!G20="",'학생부 입력 및 결과'!H20=""),"",'학생부 입력 및 결과'!G20*INDEX($L$2:$T$2,,MATCH('학생부 입력 및 결과'!H20,$L$1:$T$1,0)))} | E17: {=IF(OR('학생부 입력 및 결과'!I20="",'학생부 입력 및 결과'!J20=""),"",'학생부 입력 및 결과'!I20*INDEX($L$2:$T$2,,MATCH('학생부 입력 및 결과'!J20,$L$1:$T$1,0)))}
A18: {=IF(OR('학생부 입력 및 결과'!A21="",'학생부 입력 및 결과'!B21=""),"",'학생부 입력 및 결과'!A21*INDEX($L$2:$T$2,,MATCH('학생부 입력 및 결과'!B21,$L$1:$T$1,0)))} | B18: {=IF(OR('학생부 입력 및 결과'!C21="",'학생부 입력 및 결과'!D21=""),"",'학생부 입력 및 결과'!C21*INDEX($L$2:$T$2,,MATCH('학생부 입력 및 결과'!D21,$L$1:$T$1,0)))} | C18: {=IF(OR('학생부 입력 및 결과'!E21="",'학생부 입력 및 결과'!F21=""),"",'학생부 입력 및 결과'!E21*INDEX($L$2:$T$2,,MATCH('학생부 입력 및 결과'!F21,$L$1:$T$1,0)))} | D18: {=IF(OR('학생부 입력 및 결과'!G21="",'학생부 입력 및 결과'!H21=""),"",'학생부 입력 및 결과'!G21*INDEX($L$2:$T$2,,MATCH('학생부 입력 및 결과'!H21,$L$1:$T$1,0)))} | E18: {=IF(OR('학생부 입력 및 결과'!I21="",'학생부 입력 및 결과'!J21=""),"",'학생부 입력 및 결과'!I21*INDEX($L$2:$T$2,,MATCH('학생부 입력 및 결과'!J21,$L$1:$T$1,0)))}
A19: {=IF(OR('학생부 입력 및 결과'!A22="",'학생부 입력 및 결과'!B22=""),"",'학생부 입력 및 결과'!A22*INDEX($L$2:$T$2,,MATCH('학생부 입력 및 결과'!B22,$L$1:$T$1,0)))} | B19: {=IF(OR('학생부 입력 및 결과'!C22="",'학생부 입력 및 결과'!D22=""),"",'학생부 입력 및 결과'!C22*INDEX($L$2:$T$2,,MATCH('학생부 입력 및 결과'!D22,$L$1:$T$1,0)))} | C19: {=IF(OR('학생부 입력 및 결과'!E22="",'학생부 입력 및 결과'!F22=""),"",'학생부 입력 및 결과'!E22*INDEX($L$2:$T$2,,MATCH('학생부 입력 및 결과'!F22,$L$1:$T$1,0)))} | D19: {=IF(OR('학생부 입력 및 결과'!G22="",'학생부 입력 및 결과'!H22=""),"",'학생부 입력 및 결과'!G22*INDEX($L$2:$T$2,,MATCH('학생부 입력 및 결과'!H22,$L$1:$T$1,0)))} | E19: {=IF(OR('학생부 입력 및 결과'!I22="",'학생부 입력 및 결과'!J22=""),"",'학생부 입력 및 결과'!I22*INDEX($L$2:$T$2,,MATCH('학생부 입력 및 결과'!J22,$L$1:$T$1,0)))}
A20: {=IF(OR('학생부 입력 및 결과'!A23="",'학생부 입력 및 결과'!B23=""),"",'학생부 입력 및 결과'!A23*INDEX($L$2:$T$2,,MATCH('학생부 입력 및 결과'!B23,$L$1:$T$1,0)))} | B20: {=IF(OR('학생부 입력 및 결과'!C23="",'학생부 입력 및 결과'!D23=""),"",'학생부 입력 및 결과'!C23*INDEX($L$2:$T$2,,MATCH('학생부 입력 및 결과'!D23,$L$1:$T$1,0)))} | C20: {=IF(OR('학생부 입력 및 결과'!E23="",'학생부 입력 및 결과'!F23=""),"",'학생부 입력 및 결과'!E23*INDEX($L$2:$T$2,,MATCH('학생부 입력 및 결과'!F23,$L$1:$T$1,0)))} | D20: {=IF(OR('학생부 입력 및 결과'!G23="",'학생부 입력 및 결과'!H23=""),"",'학생부 입력 및 결과'!G23*INDEX($L$2:$T$2,,MATCH('학생부 입력 및 결과'!H23,$L$1:$T$1,0)))} | E20: {=IF(OR('학생부 입력 및 결과'!I23="",'학생부 입력 및 결과'!J23=""),"",'학생부 입력 및 결과'!I23*INDEX($L$2:$T$2,,MATCH('학생부 입력 및 결과'!J23,$L$1:$T$1,0)))}
A21: {=IF(OR('학생부 입력 및 결과'!A24="",'학생부 입력 및 결과'!B24=""),"",'학생부 입력 및 결과'!A24*INDEX($L$2:$T$2,,MATCH('학생부 입력 및 결과'!B24,$L$1:$T$1,0)))} | B21: {=IF(OR('학생부 입력 및 결과'!C24="",'학생부 입력 및 결과'!D24=""),"",'학생부 입력 및 결과'!C24*INDEX($L$2:$T$2,,MATCH('학생부 입력 및 결과'!D24,$L$1:$T$1,0)))} | C21: {=IF(OR('학생부 입력 및 결과'!E24="",'학생부 입력 및 결과'!F24=""),"",'학생부 입력 및 결과'!E24*INDEX($L$2:$T$2,,MATCH('학생부 입력 및 결과'!F24,$L$1:$T$1,0)))} | D21: {=IF(OR('학생부 입력 및 결과'!G24="",'학생부 입력 및 결과'!H24=""),"",'학생부 입력 및 결과'!G24*INDEX($L$2:$T$2,,MATCH('학생부 입력 및 결과'!H24,$L$1:$T$1,0)))} | E21: {=IF(OR('학생부 입력 및 결과'!I24="",'학생부 입력 및 결과'!J24=""),"",'학생부 입력 및 결과'!I24*INDEX($L$2:$T$2,,MATCH('학생부 입력 및 결과'!J24,$L$1:$T$1,0)))}
A22: {=IF(OR('학생부 입력 및 결과'!A25="",'학생부 입력 및 결과'!B25=""),"",'학생부 입력 및 결과'!A25*INDEX($L$2:$T$2,,MATCH('학생부 입력 및 결과'!B25,$L$1:$T$1,0)))} | B22: {=IF(OR('학생부 입력 및 결과'!C25="",'학생부 입력 및 결과'!D25=""),"",'학생부 입력 및 결과'!C25*INDEX($L$2:$T$2,,MATCH('학생부 입력 및 결과'!D25,$L$1:$T$1,0)))} | C22: {=IF(OR('학생부 입력 및 결과'!E25="",'학생부 입력 및 결과'!F25=""),"",'학생부 입력 및 결과'!E25*INDEX($L$2:$T$2,,MATCH('학생부 입력 및 결과'!F25,$L$1:$T$1,0)))} | D22: {=IF(OR('학생부 입력 및 결과'!G25="",'학생부 입력 및 결과'!H25=""),"",'학생부 입력 및 결과'!G25*INDEX($L$2:$T$2,,MATCH('학생부 입력 및 결과'!H25,$L$1:$T$1,0)))} | E22: {=IF(OR('학생부 입력 및 결과'!I25="",'학생부 입력 및 결과'!J25=""),"",'학생부 입력 및 결과'!I25*INDEX($L$2:$T$2,,MATCH('학생부 입력 및 결과'!J25,$L$1:$T$1,0)))}
A23: {=IF(OR('학생부 입력 및 결과'!A26="",'학생부 입력 및 결과'!B26=""),"",'학생부 입력 및 결과'!A26*INDEX($L$2:$T$2,,MATCH('학생부 입력 및 결과'!B26,$L$1:$T$1,0)))} | B23: {=IF(OR('학생부 입력 및 결과'!C26="",'학생부 입력 및 결과'!D26=""),"",'학생부 입력 및 결과'!C26*INDEX($L$2:$T$2,,MATCH('학생부 입력 및 결과'!D26,$L$1:$T$1,0)))} | C23: {=IF(OR('학생부 입력 및 결과'!E26="",'학생부 입력 및 결과'!F26=""),"",'학생부 입력 및 결과'!E26*INDEX($L$2:$T$2,,MATCH('학생부 입력 및 결과'!F26,$L$1:$T$1,0)))} | D23: {=IF(OR('학생부 입력 및 결과'!G26="",'학생부 입력 및 결과'!H26=""),"",'학생부 입력 및 결과'!G26*INDEX($L$2:$T$2,,MATCH('학생부 입력 및 결과'!H26,$L$1:$T$1,0)))} | E23: {=IF(OR('학생부 입력 및 결과'!I26="",'학생부 입력 및 결과'!J26=""),"",'학생부 입력 및 결과'!I26*INDEX($L$2:$T$2,,MATCH('학생부 입력 및 결과'!J26,$L$1:$T$1,0)))}
A24: {=IF(OR('학생부 입력 및 결과'!A27="",'학생부 입력 및 결과'!B27=""),"",'학생부 입력 및 결과'!A27*INDEX($L$2:$T$2,,MATCH('학생부 입력 및 결과'!B27,$L$1:$T$1,0)))} | B24: {=IF(OR('학생부 입력 및 결과'!C27="",'학생부 입력 및 결과'!D27=""),"",'학생부 입력 및 결과'!C27*INDEX($L$2:$T$2,,MATCH('학생부 입력 및 결과'!D27,$L$1:$T$1,0)))} | C24: {=IF(OR('학생부 입력 및 결과'!E27="",'학생부 입력 및 결과'!F27=""),"",'학생부 입력 및 결과'!E27*INDEX($L$2:$T$2,,MATCH('학생부 입력 및 결과'!F27,$L$1:$T$1,0)))} | D24: {=IF(OR('학생부 입력 및 결과'!G27="",'학생부 입력 및 결과'!H27=""),"",'학생부 입력 및 결과'!G27*INDEX($L$2:$T$2,,MATCH('학생부 입력 및 결과'!H27,$L$1:$T$1,0)))} | E24: {=IF(OR('학생부 입력 및 결과'!I27="",'학생부 입력 및 결과'!J27=""),"",'학생부 입력 및 결과'!I27*INDEX($L$2:$T$2,,MATCH('학생부 입력 및 결과'!J27,$L$1:$T$1,0)))}
A25: {=IF(OR('학생부 입력 및 결과'!A28="",'학생부 입력 및 결과'!B28=""),"",'학생부 입력 및 결과'!A28*INDEX($L$2:$T$2,,MATCH('학생부 입력 및 결과'!B28,$L$1:$T$1,0)))} | B25: {=IF(OR('학생부 입력 및 결과'!C28="",'학생부 입력 및 결과'!D28=""),"",'학생부 입력 및 결과'!C28*INDEX($L$2:$T$2,,MATCH('학생부 입력 및 결과'!D28,$L$1:$T$1,0)))} | C25: {=IF(OR('학생부 입력 및 결과'!E28="",'학생부 입력 및 결과'!F28=""),"",'학생부 입력 및 결과'!E28*INDEX($L$2:$T$2,,MATCH('학생부 입력 및 결과'!F28,$L$1:$T$1,0)))} | D25: {=IF(OR('학생부 입력 및 결과'!G28="",'학생부 입력 및 결과'!H28=""),"",'학생부 입력 및 결과'!G28*INDEX($L$2:$T$2,,MATCH('학생부 입력 및 결과'!H28,$L$1:$T$1,0)))} | E25: {=IF(OR('학생부 입력 및 결과'!I28="",'학생부 입력 및 결과'!J28=""),"",'학생부 입력 및 결과'!I28*INDEX($L$2:$T$2,,MATCH('학생부 입력 및 결과'!J28,$L$1:$T$1,0)))}
A26: {=IF(OR('학생부 입력 및 결과'!A29="",'학생부 입력 및 결과'!B29=""),"",'학생부 입력 및 결과'!A29*INDEX($L$2:$T$2,,MATCH('학생부 입력 및 결과'!B29,$L$1:$T$1,0)))} | B26: {=IF(OR('학생부 입력 및 결과'!C29="",'학생부 입력 및 결과'!D29=""),"",'학생부 입력 및 결과'!C29*INDEX($L$2:$T$2,,MATCH('학생부 입력 및 결과'!D29,$L$1:$T$1,0)))} | C26: {=IF(OR('학생부 입력 및 결과'!E29="",'학생부 입력 및 결과'!F29=""),"",'학생부 입력 및 결과'!E29*INDEX($L$2:$T$2,,MATCH('학생부 입력 및 결과'!F29,$L$1:$T$1,0)))} | D26: {=IF(OR('학생부 입력 및 결과'!G29="",'학생부 입력 및 결과'!H29=""),"",'학생부 입력 및 결과'!G29*INDEX($L$2:$T$2,,MATCH('학생부 입력 및 결과'!H29,$L$1:$T$1,0)))} | E26: {=IF(OR('학생부 입력 및 결과'!I29="",'학생부 입력 및 결과'!J29=""),"",'학생부 입력 및 결과'!I29*INDEX($L$2:$T$2,,MATCH('학생부 입력 및 결과'!J29,$L$1:$T$1,0)))}
... A28: {=IF(OR('학생부 입력 및 결과'!A31="",'학생부 입력 및 결과'!B31=""),"",'학생부 입력 및 결과'!A31*INDEX($L$2:$T$2,,MATCH('학생부 입력 및 결과'!B31,$L$1:$T$1,0)))} | B28: {=IF(OR('학생부 입력 및 결과'!C31="",'학생부 입력 및 결과'!D31=""),"",'학생부 입력 및 결과'!C31*INDEX($L$2:$T$2,,MATCH('학생부 입력 및 결과'!D31,$L$1:$T$1,0)))} | C28: {=IF(OR('학생부 입력 및 결과'!E31="",'학생부 입력 및 결과'!F31=""),"",'학생부 입력 및 결과'!E31*INDEX($L$2:$T$2,,MATCH('학생부 입력 및 결과'!F31,$L$1:$T$1,0)))} | D28: {=IF(OR('학생부 입력 및 결과'!G31="",'학생부 입력 및 결과'!H31=""),"",'학생부 입력 및 결과'!G31*INDEX($L$2:$T$2,,MATCH('학생부 입력 및 결과'!H31,$L$1:$T$1,0)))} | E28: {=IF(OR('학생부 입력 및 결과'!I31="",'학생부 입력 및 결과'!J31=""),"",'학생부 입력 및 결과'!I31*INDEX($L$2:$T$2,,MATCH('학생부 입력 및 결과'!J31,$L$1:$T$1,0)))}

Sheet Sheet3
B5: 2024~2027학년도 학생부교과전형 변경사항
B6: 변경사항 | D6: 2027 | E6: 2026 | F6: 2025 | G6: 2024
B7: 수능최저학력기준 | C7: 의학과 제외 | D7: 2합 5 이내
C8: 의학과 | D8: 4합 6 이내 | F8: 미선발
B9: 진로선택과목 반영 | D9: 반영교과 5과목 | F9: 교과별 3과목

Sheet Sheet4
A1: 학생부교과(고교추천전형) _최종등록자 기준 | D1: 2026학년도 | F1: 2025학년도 | H1: 2024학년도
D2: 50% cut | E2: 70% cut | F2: 50% cut | G2: 70% cut | H2: 50% cut | I2: 70% cut
A3: 자연 | B3: 기계공학과 | D3: 98.93 | E3: 98.83 | F3: 98.68 | G3: 98.6 | H3: 98.77 | I3: 98.73
B4: 산업공학과 | D4: 98.71 | E4: 98.7 | F4: 98.77 | G4: 98.61 | H4: 98.71 | I4: 98.66
B5: 화학공학과 | D5: 99.17 | E5: 99.04 | F5: 99.04 | G5: 99.04 | H5: - | I5: -
B6: 첨단신소재공학과 | D6: 98.88 | E6: 98.78 | F6: 98.98 | G6: 98.92 | H6: 98.89 | I6: 98.88
B7: 응용화학과 | D7: 98.79 | E7: 98.76 | F7: 98.8 | G7: 98.71 | H7: 99.07 | I7: 99.01
B8: 환경안전공학과 | D8: 98.96 | E8: 98.71 | F8: 98.94 | G8: 98.78 | H8: 98.75 | I8: 98.7
B9: 건설시스템공학과 | D9: 98.53 | E9: 98.5 | F9: 98.53 | G9: 98.36 | H9: 98.15 | I9: 98.08
B10: 교통시스템공학과 | D10: 98.52 | E10: 98.46 | F10: 98.48 | G10: 98.33 | H10: 98.47 | I10: 98.36
B11: 건축학과 | D11: 98.28 | E11: 98.08 | F11: 98.58 | G11: 98.54 | H11: 98.3 | I11: 98.23
B12: 전자공학과 | D12: 99.14 | E12: 99.12 | F12: 99.03 | G12: 98.98 | H12: 99.01 | I12: 98.91
B13: 지능형반도체공학과 | D13: 99.11 | E13: 99.02 | F13: 99.37 | G13: 99.13 | H13: 99.02 | I13: 99.01
B14: 미래모빌리티공학과 | D14: 98.76 | E14: 98.72 | F14: 98.71 | G14: 98.63 | H14: 98.68 | I14: 98.54
B15: 소프트웨어학과 | D15: 98.77 | E15: 98.29 | F15: 99.1 | G15: 99.07 | H15: 98.85 | I15: 98.71
B16: 사이버보안학과 | D16: 98.74 | E16: 98.74 | F16: 98.26 | G16: 98.22 | H16: 98.71 | I16: 98.7
B17: 디지털미디어학과 | D17: 98.51 | E17: 98.41 | F17: 98.53 | G17: 98.44 | H17: 98.59 | I17: 98.41
B18: 수학과 | D18: 98.67 | E18: 98.41 | F18: 98.07 | G18: 97.91 | H18: 98.47 | I18: 98.36
B19: 프런티어과학학부 | C19: 물리학과 | D19: 98.83 | E19: 98.76 | F19: 98.86 | G19: 98.74 | H19: 98 | I19: 97.88
C20: 화학과 | D20: #N/A | E20: #N/A | H20: 98.9 | I20: 98.69
C21: 생명과학과 | D21: #N/A | E21: #N/A | H21: 99.28 | I21: 99.07
B22: 의학과 | D22: 100 | E22: 100 | F22: - | G22: - | H22: - | I22: -
B23: 간호학과 | D23: 99.31 | E23: 99.25 | F23: 99.23 | G23: 99.18 | H23: 99.45 | I23: 99.44
B24: 첨단바이오융합대학 | D24: 98.99 | E24: 98.77 | F24: 99.11 | G24: 99.1 | H24: 99.07 | I24: 99.01
B25: 자유전공학부(자연) | D25: 99 | E25: 98.99 | F25: 98.74 | G25: 98.54 | H25: - | I25: -
A26: 인문 | B26: 경영학과 | D26: 98.52 | E26: 98.46 | F26: 98.41 | G26: 98.16 | H26: 98.43 | I26: 98.39
B27: 경영인텔리전스학과 | D27: 98.43 | E27: 98.34 | F27: 97.86 | G27: 97.42 | H27: 98.49 | I27: 98.44
B28: 금융공학과 | D28: 98.52 | E28: 98.33 | F28: 98.38 | G28: 98.05 | H28: 98.79 | I28: 98.65
B29: 국어국문학과 | D29: 98.1 | E29: 97.95 | F29: 98.67 | G29: 98.15 | H29: 97.63 | I29: 97.56
B30: 영어영문학과 | D30: 98.28 | E30: 98.25 | F30: 98.14 | G30: 98.13 | H30: 98.2 | I30: 97.85
B31: 불어불문학과 | D31: 98.08 | E31: 98.08 | F31: 97.81 | G31: 97.81 | H31: 97.66 | I31: 97.63
B32: 사학과 | D32: 97.61 | E32: 97.17 | F32: 98.16 | G32: 98.01 | H32: 97.77 | I32: 97.69
B33: 문화콘텐츠학과 | D33: 98.53 | E33: 98.51 | F33: 98.28 | G33: 98.08 | H33: - | I33: -
B34: 행정학과 | D34: 98.42 | E34: 98.23 | F34: 98.31 | G34: 98.25 | H34: 98.02 | I34: 97.49
B35: 심리학과 | D35: 99.05 | E35: 98.96 | F35: 98.69 | G35: 98.69 | H35: 98.15 | I35: 98.1
B36: 경제정치사회융합학부 | C36: 경제학과 | D36: 98.35 | E36: 98.21 | F36: 97.65 | G36: 97.56 | H36: 98.14 | I36: 98.07
C37: 정치외교학과 | D37: #N/A | E37: #N/A | H37: 98.78 | I37: 98.22
C38: 사회학과 | D38: #N/A | E38: #N/A | H38: 98.41 | I38: 98.26
B39: 자유전공학부(인문) | D39: 98.82 | E39: 98.65 | F39: 98.58 | G39: 98.34 | H39: - | I39: -
