Workbook

Sheet 입력
A1: 2025 Ajou Univ. | B1: 국어 | C1: 수학 | D1: 영어 | E1: 탐구1 | F1: 탐구2 | G1: 한국사 | H1: [반영비율] 국어-수학-영어-탐구
C2: 미적분 | E2: 과탐 | F2: 과탐 | H2: [자연계열1] 20 - 35 - 15 - 30
A3: 표준점수 | B3: 50 | C3: 50 | H3: [자연계열2] 20 - 40 - 10 - 30
A4: 백분위 | E4: 50 | F4: 50 | H4: [인문계열1] 25 - 40 - 15 - 20
A5: 등급 | D5: 1 | G5: 1 | H5: [인문계열2] 35 - 25 - 15 - 25
A6: 유의) 환산점수는 난이도와 표준점수 만점에 따라 크게 달라질 수 있으므로 아래의 정시 입시상담솔루션을 통해 환산백분위 참고를 권장드립니다.
A7: [아주대학교 정시 입시상담솔루션 바로가기(오픈예정)]
A8: 전형구분 | B8: 환산점수 | D8: 해당 모집단위 | L8: 비고
A9: 일반전형1, 2, 3, 4 국방IT우수인재2 농어촌, 기회균형전형 | B9: =IF(계산!G19=0,"-",계산!G19) -> 568.13036 | D9: [자연1] 공과대학, 첨단ICT융합대학, 소프트웨어융합대학, 자연과학대학, 간호학과, 약학과, 첨단바이오융합대학, 자유전공학부(자연) | L9: 수학: 미적분/기하 선택 시 표준 점수에 3% 가산 탐구: 과학탐구 선택시 백분위 자체 변환점수에 3% 가산
B10: =IF(계산!G20=0,"-",계산!G20) -> 536.52321 | D10: [자연2] 국방디지털융합학과, 의학과
B11: =IF(계산!G21=0,"-",계산!G21) -> 523.52171 | D11: [인문1] 경영대학, 간호학과(일반전형4) | L11: -
B12: =IF(계산!G22=0,"-",계산!G22) -> 541.10563 | D12: [인문2] 인문대학, 사회과학대학, 자유전공학부(인문)
A13: 특성화고졸업자전형 | B13: =IF(계산!G23=0,"-",계산!G23) -> 568.13036 | D13: [자연1] 공과대학, 첨단ICT융합대학, 소프트웨어융합대학 | L13: 수학: 미적분/기하 선택 시 표준 점수에 3% 가산 탐구: 과학탐구 선택시 백분위 자체 변환점수에 3% 가산
B14: =IF(계산!G24=0,"-",계산!G24) -> 523.52171 | D14: [인문1] 경영대학 | L14: -

Sheet 계산
A1: 계열/모집단위 | B1: 백분위 반영비율 | G1: 2025학년도 만점
B2: 국어 | C2: 수학 | D2: 영어 | E2: 탐구 | F2: 한국사 | G2: 국어 | H2: 수학 | J2: 백분위 | K2: 사탐 | L2: 과탐 | M2: 직탐 | O2: 영어 등급별 감점 및 표준변환점수
A3: 의학과 | B3: 0.2 | C3: 0.4 | D3: 0.1 | E3: 0.3 | G3: 139 | H3: 140 | J3: 100 | K3: 69.64 | L3: 70.06 | M3: 68.67 | O3: 등급 | P3: 1 | Q3: 2 | R3: 3 | S3: 4 | T3: 5 | U3: 6 | V3: 7 | W3: 8 | X3: 9
A4: 자연계열(의학과, 국방디지털융합학과 제외) | B4: 0.2 | C4: 0.35 | D4: 0.15 | E4: 0.3 | G4: 139 | H4: 140 | J4: 99 | K4: 68.7 | L4: 69.38 | M4: 68.17 | O4: 0.1 | P4: 100 | Q4: 96 | R4: 92 | S4: 84 | T4: 60 | U4: 40 | V4: 20 | W4: 10 | X4: 0
A5: 국방디지털융합학과 | B5: 0.2 | C5: 0.4 | D5: 0.1 | E5: 0.3 | G5: 139 | H5: 140 | J5: 98 | K5: 67.7 | L5: 68.48 | M5: 67.33 | O5: 0.15 | P5: 150 | Q5: 144 | R5: 138 | S5: 126 | T5: 90 | U5: 60 | V5: 30 | W5: 15 | X5: 0
A6: 경영대학, 간호학과(교차) | B6: 0.25 | C6: 0.4 | D6: 0.15 | E6: 0.2 | G6: 139 | H6: 140 | J6: 97 | K6: 67 | L6: 67.71 | M6: 66.83
A7: 인문대학, 사회과학대학 | B7: 0.35 | C7: 0.25 | D7: 0.15 | E7: 0.25 | G7: 139 | H7: 140 | J7: 96 | K7: 66.44 | L7: 66.91 | M7: 66.28 | O7: 한국사 등급별 감점
J8: 95 | K8: 65.87 | L8: 66.22 | M8: 65.79 | O8: 등급 | P8: 1 | Q8: 2 | R8: 3 | S8: 4 | T8: 5 | U8: 6 | V8: 7 | W8: 8 | X8: 9
J9: 94 | K9: 65.39 | L9: 65.66 | M9: 65.44 | O9: 감점 | P9: 0 | Q9: 0 | R9: 0 | S9: 0 | T9: -5 | U9: -10 | V9: -20 | W9: -30 | X9: -40
A10: 자연계열 | B10: 국어 | C10: 수학 | D10: 영어 | E10: 탐구1 | F10: 탐구2 | G10: 한국사 | J10: 93 | K10: 64.97 | L10: 65.18 | M10: 64.99
C11: =입력!C2 -> 미적분 | E11: =입력!E2 -> 과탐 | F11: =입력!F2 -> 과탐 | J11: 92 | K11: 64.39 | L11: 64.71 | M11: 64.54
A12: 표준점수 | B12: =입력!B3 -> 50 | C12: =입력!C3 -> 50 | J12: 91 | K12: 64.04 | L12: 64.33 | M12: 64.08
A13: 백분위 | E13: =입력!E4 -> 50 | F13: =입력!F4 -> 50 | J13: 90 | K13: 63.69 | L13: 63.98 | M13: 63.76
A14: 등급 | D14: =입력!D5 -> 1 | G14: =입력!G5 -> 1 | J14: 89 | K14: 63.39 | L14: 63.49 | M14: 63.44
J15: 88 | K15: 63.08 | L15: 63.12 | M15: 63.13
A16: 계열/모집단위 | J16: 87 | K16: 62.77 | L16: 62.69 | M16: 62.75
B17: 국어 | C17: 수학 | D17: 영어 | E17: 탐구 | F17: 한국사 | G17: 총점 | J17: 86 | K17: 62.46 | L17: 62.33 | M17: 62.34
A18: 의학과 | B18: =IFERROR($B$12/G3*B3*1000,"-") -> 71.942446 | C18: =IFERROR(IF($C$11="확통",$C$12/H3*C3*1000,$C$12/H3*C3*1000*1.03),"-") -> 147.14286 | D18: =IFERROR(INDEX($O$3:$X$5,MATCH(D3,$O$3:$O$5,0),MATCH(D$14,$O$3:$X$3,0)),"-") -> 100 | E18: =IFERROR(IF(AND($E$11="과탐",$F$11="과탐"),SUM(INDEX($K$3:$M$103,MATCH($E$13,$J$3:$J$103,0),MATCH($E$11,$K$2:$M$2,0))*1.03,INDEX($K$3:$M$103,MATCH($F$13,$J$3:$J$103,0),MATCH($F$11,$K$2:$M$2,0))*1.03)/SUM(INDEX($J$2:$M$3,,MATCH($E$11,$J$2:$M$2,0)),INDEX($J$3:$M$3,,MATCH($F$11,$J$2:$M$2,0)))*E3*1000,IF(AND($E$11="과탐",$F$11<>"과탐"),SUM(INDEX($K$3:$M$103,MATCH($E$13,$J$3:$J$103,0),MATCH($E$11,$K$2:$M$2,0))*1.03,INDEX($K$3:$M$103,MATCH($F$13,$J$3:$J$103,0),MATCH($F$11,$K$2:$M$2,0)))/SUM(INDEX($J$2:$M$3,,MATCH($E$11,$J$2:$M$2,0)),INDEX($J$3:$M$3,,MATCH($F$11,$J$2:$M$2,0)))*E3*1000,IF(AND($E$11<>"과탐",$F$11="과탐"),SUM(INDEX($K$3:$M$103,MATCH($E$13,$J$3:$J$103,0),MATCH($E$11,$K$2:$M$2,0)),INDEX($K$3:$M$103,MATCH($F$13,$J$3:$J$103,0),MATCH($F$11,$K$2:$M$2,0))*1.03)/SUM(INDEX($J$2:$M$3,,MATCH($E$11,$J$2:$M$2,0)),INDEX($J$3:$M$3,,MATCH($F$11,$J$2:$M$2,0)))*E3*1000,SUM(INDEX($K$3:$M$103,MATCH($E$13,$J$3:$J$103,0),MATCH($E$11,$K$2:$M$2,0)),INDEX($K$3:$M$103,MATCH($F$13,$J$3:$J$103,0),MATCH($F$11,$K$2:$M$2,0)))/SUM(INDEX($J$2:$M$3,,MATCH($E$11,$J$2:$M$2,0)),INDEX($J$3:$M$3,,MATCH($F$11,$J$2:$M$2,0)))*E3*1000))),"-") -> 217.43791 | F18: {=IFERROR(INDEX($O$9:$X$9,,MATCH($G$14,$O$8:$X$8,0)),"-")} -> 0 | G18: =IF(OR(입력!$B$3="",입력!$C$3="",입력!$D$5="",입력!$E$4="",입력!$F$4="",입력!$G$5=""),"-",IF(COUNTIFS(B18:F18,"-")>0,"-",IF(OR($E$11="직탐",$F$11="직탐"),"-",SUM(B18:F18)))) -> 536.52321 | H18: 1021 | I18: =G18*0.95 -> 509.69705 | J18: 85 | K18: 62.14 | L18: 61.97 | M18: 61.85
A19: 자연계열(의학과, 국방디지털융합학과 제외) | B19: =IFERROR($B$12/G4*B4*1000,"-") -> 71.942446 | C19: =IFERROR(IF($C$11="확통",$C$12/H4*C4*1000,$C$12/H4*C4*1000*1.03),"-") -> 128.75 | D19: =IFERROR(INDEX($O$3:$X$5,MATCH(D4,$O$3:$O$5,0),MATCH(D$14,$O$3:$X$3,0)),"-") -> 150 | E19: =IFERROR(IF(AND($E$11="과탐",$F$11="과탐"),SUM(INDEX($K$3:$M$103,MATCH($E$13,$J$3:$J$103,0),MATCH($E$11,$K$2:$M$2,0))*1.03,INDEX($K$3:$M$103,MATCH($F$13,$J$3:$J$103,0),MATCH($F$11,$K$2:$M$2,0))*1.03)/SUM(INDEX($J$2:$M$3,,MATCH($E$11,$J$2:$M$2,0)),INDEX($J$3:$M$3,,MATCH($F$11,$J$2:$M$2,0)))*E4*1000,IF(AND($E$11="과탐",$F$11<>"과탐"),SUM(INDEX($K$3:$M$103,MATCH($E$13,$J$3:$J$103,0),MATCH($E$11,$K$2:$M$2,0))*1.03,INDEX($K$3:$M$103,MATCH($F$13,$J$3:$J$103,0),MATCH($F$11,$K$2:$M$2,0)))/SUM(INDEX($J$2:$M$3,,MATCH($E$11,$J$2:$M$2,0)),INDEX($J$3:$M$3,,MATCH($F$11,$J$2:$M$2,0)))*E4*1000,IF(AND($E$11<>"과탐",$F$11="과탐"),SUM(INDEX($K$3:$M$103,MATCH($E$13,$J$3:$J$103,0),MATCH($E$11,$K$2:$M$2,0)),INDEX($K$3:$M$103,MATCH($F$13,$J$3:$J$103,0),MATCH($F$11,$K$2:$M$2,0))*1.03)/SUM(INDEX($J$2:$M$3,,MATCH($E$11,$J$2:$M$2,0)),INDEX($J$3:$M$3,,MATCH($F$11,$J$2:$M$2,0)))*E4*1000,SUM(INDEX($K$3:$M$103,MATCH($E$13,$J$3:$J$103,0),MATCH($E$11,$K$2:$M$2,0)),INDEX($K$3:$M$103,MATCH($F$13,$J$3:$J$103,0),MATCH($F$11,$K$2:$M$2,0)))/SUM(INDEX($J$2:$M$3,,MATCH($E$11,$J$2:$M$2,0)),INDEX($J$3:$M$3,,MATCH($F$11,$J$2:$M$2,0)))*E4*1000))),"-") -> 217.43791 | F19: {=IFERROR(INDEX($O$9:$X$9,,MATCH($G$14,$O$8:$X$8,0)),"-")} -> 0 | G19: =IF(OR(입력!$B$3="",입력!$C$3="",입력!$D$5="",입력!$E$4="",입력!$F$4="",입력!$G$5=""),"-",IF(COUNTIFS(B19:F19,"-")>0,"-",IF(OR($E$11="직탐",$F$11="직탐"),"-",SUM(B19:F19)))) -> 568.13036 | H19: 1019.5 | J19: 84 | K19: 61.8 | L19: 61.6 | M19: 61.56
A20: 국방디지털융합학과 | B20: =IFERROR($B$12/G5*B5*1000,"-") -> 71.942446 | C20: =IFERROR(IF($C$11="확통",$C$12/H5*C5*1000,$C$12/H5*C5*1000*1.03),"-") -> 147.14286 | D20: =IFERROR(INDEX($O$3:$X$5,MATCH(D5,$O$3:$O$5,0),MATCH(D$14,$O$3:$X$3,0)),"-") -> 100 | E20: =IFERROR(IF(AND($E$11="과탐",$F$11="과탐"),SUM(INDEX($K$3:$M$103,MATCH($E$13,$J$3:$J$103,0),MATCH($E$11,$K$2:$M$2,0))*1.03,INDEX($K$3:$M$103,MATCH($F$13,$J$3:$J$103,0),MATCH($F$11,$K$2:$M$2,0))*1.03)/SUM(INDEX($J$2:$M$3,,MATCH($E$11,$J$2:$M$2,0)),INDEX($J$3:$M$3,,MATCH($F$11,$J$2:$M$2,0)))*E5*1000,IF(AND($E$11="과탐",$F$11<>"과탐"),SUM(INDEX($K$3:$M$103,MATCH($E$13,$J$3:$J$103,0),MATCH($E$11,$K$2:$M$2,0))*1.03,INDEX($K$3:$M$103,MATCH($F$13,$J$3:$J$103,0),MATCH($F$11,$K$2:$M$2,0)))/SUM(INDEX($J$2:$M$3,,MATCH($E$11,$J$2:$M$2,0)),INDEX($J$3:$M$3,,MATCH($F$11,$J$2:$M$2,0)))*E5*1000,IF(AND($E$11<>"과탐",$F$11="과탐"),SUM(INDEX($K$3:$M$103,MATCH($E$13,$J$3:$J$103,0),MATCH($E$11,$K$2:$M$2,0)),INDEX($K$3:$M$103,MATCH($F$13,$J$3:$J$103,0),MATCH($F$11,$K$2:$M$2,0))*1.03)/SUM(INDEX($J$2:$M$3,,MATCH($E$11,$J$2:$M$2,0)),INDEX($J$3:$M$3,,MATCH($F$11,$J$2:$M$2,0)))*E5*1000,SUM(INDEX($K$3:$M$103,MATCH($E$13,$J$3:$J$103,0),MATCH($E$11,$K$2:$M$2,0)),INDEX($K$3:$M$103,MATCH($F$13,$J$3:$J$103,0),MATCH($F$11,$K$2:$M$2,0)))/SUM(INDEX($J$2:$M$3,,MATCH($E$11,$J$2:$M$2,0)),INDEX($J$3:$M$3,,MATCH($F$11,$J$2:$M$2,0)))*E5*1000))),"-") -> 217.43791 | F20: {=IFERROR(INDEX($O$9:$X$9,,MATCH($G$14,$O$8:$X$8,0)),"-")} -> 0 | G20: =IF(OR(입력!$B$3="",입력!$C$3="",입력!$D$5="",입력!$E$4="",입력!$F$4="",입력!$G$5=""),"-",IF(COUNTIFS(B20:F20,"-")>0,"-",IF(OR($E$11="직탐",$F$11="직탐"),"-",SUM(B20:F20)))) -> 536.52321 | H20: 1021 | J20: 83 | K20: 61.44 | L20: 61.23 | M20: 61.26
A21: 경영대학, 간호학과(교차) | B21: =IFERROR($B$12/G6*B6*1000,"-") -> 89.928058 | C21: =IFERROR($C$12/H6*C6*1000,"-") -> 142.85714 | D21: =IFERROR(INDEX($O$3:$X$5,MATCH(D6,$O$3:$O$5,0),MATCH(D$14,$O$3:$X$3,0)),"-") -> 150 | E21: =IFERROR(SUM(INDEX($K$3:$M$103,MATCH($E$13,$J$3:$J$103,0),MATCH($E$11,$K$2:$M$2,0)),INDEX($K$3:$M$103,MATCH($F$13,$J$3:$J$103,0),MATCH($F$11,$K$2:$M$2,0)))/SUM(INDEX($J$2:$M$3,,MATCH($E$11,$J$2:$M$2,0)),INDEX($J$3:$M$3,,MATCH($F$11,$J$2:$M$2,0)))*E6*1000,"-") -> 140.73651 | F21: {=IFERROR(INDEX($O$9:$X$9,,MATCH($G$14,$O$8:$X$8,0)),"-")} -> 0 | G21: =IF(OR(입력!$B$3="",입력!$C$3="",입력!$D$5="",입력!$E$4="",입력!$F$4="",입력!$G$5=""),"-",IF(COUNTIFS(B21:F21,"-")>0,"-",IF(OR($E$11="직탐",$F$11="직탐"),"-",SUM(B21:F21)))) -> 523.52171 | H21: 1000 | J21: 82 | K21: 61.1 | L21: 60.9 | M21: 60.97
A22: 인문대학, 사회과학대학 | B22: =IFERROR($B$12/G7*B7*1000,"-") -> 125.89928 | C22: =IFERROR($C$12/H7*C7*1000,"-") -> 89.285714 | D22: =IFERROR(INDEX($O$3:$X$5,MATCH(D7,$O$3:$O$5,0),MATCH(D$14,$O$3:$X$3,0)),"-") -> 150 | E22: =IFERROR(IF(OR(E11="직탐",F11="직탐"),0,SUM(INDEX($K$3:$M$103,MATCH($E$13,$J$3:$J$103,0),MATCH($E$11,$K$2:$M$2,0)),INDEX($K$3:$M$103,MATCH($F$13,$J$3:$J$103,0),MATCH($F$11,$K$2:$M$2,0)))/SUM(INDEX($J$2:$M$3,,MATCH($E$11,$J$2:$M$2,0)),INDEX($J$3:$M$3,,MATCH($F$11,$J$2:$M$2,0)))*E7*1000),"-") -> 175.92064 | F22: {=IFERROR(INDEX($O$9:$X$9,,MATCH($G$14,$O$8:$X$8,0)),"-")} -> 0 | G22: =IF(OR(입력!$B$3="",입력!$C$3="",입력!$D$5="",입력!$E$4="",입력!$F$4="",입력!$G$5=""),"-",IF(COUNTIFS(B22:F22,"-")>0,"-",IF(OR($E$11="직탐",$F$11="직탐"),"-",SUM(B22:F22)))) -> 541.10563 | H22: 1000 | J22: 81 | K22: 60.78 | L22: 60.48 | M22: 60.65
A23: (특성화만) 자연계열 | B23: =IFERROR($B$12/G4*B4*1000,"-") -> 71.942446 | C23: =IFERROR(IF($C$11="확통",$C$12/H4*C4*1000,$C$12/H4*C4*1000*1.03),"-") -> 128.75 | D23: =IFERROR(INDEX($O$3:$X$5,MATCH(D4,$O$3:$O$5,0),MATCH(D$14,$O$3:$X$3,0)),"-") -> 150 | E23: =IFERROR(IF(AND($E$11="과탐",$F$11="과탐"),SUM(INDEX($K$3:$M$103,MATCH($E$13,$J$3:$J$103,0),MATCH($E$11,$K$2:$M$2,0))*1.03,INDEX($K$3:$M$103,MATCH($F$13,$J$3:$J$103,0),MATCH($F$11,$K$2:$M$2,0))*1.03)/SUM(INDEX($J$2:$M$3,,MATCH($E$11,$J$2:$M$2,0)),INDEX($J$3:$M$3,,MATCH($F$11,$J$2:$M$2,0)))*E4*1000,IF(AND($E$11="과탐",$F$11<>"과탐"),SUM(INDEX($K$3:$M$103,MATCH($E$13,$J$3:$J$103,0),MATCH($E$11,$K$2:$M$2,0))*1.03,INDEX($K$3:$M$103,MATCH($F$13,$J$3:$J$103,0),MATCH($F$11,$K$2:$M$2,0)))/SUM(INDEX($J$2:$M$3,,MATCH($E$11,$J$2:$M$2,0)),INDEX($J$3:$M$3,,MATCH($F$11,$J$2:$M$2,0)))*E4*1000,IF(AND($E$11<>"과탐",$F$11="과탐"),SUM(INDEX($K$3:$M$103,MATCH($E$13,$J$3:$J$103,0),MATCH($E$11,$K$2:$M$2,0)),INDEX($K$3:$M$103,MATCH($F$13,$J$3:$J$103,0),MATCH($F$11,$K$2:$M$2,0))*1.03)/SUM(INDEX($J$2:$M$3,,MATCH($E$11,$J$2:$M$2,0)),INDEX($J$3:$M$3,,MATCH($F$11,$J$2:$M$2,0)))*E4*1000,SUM(INDEX($K$3:$M$103,MATCH($E$13,$J$3:$J$103,0),MATCH($E$11,$K$2:$M$2,0)),INDEX($K$3:$M$103,MATCH($F$13,$J$3:$J$103,0),MATCH($F$11,$K$2:$M$2,0)))/SUM(INDEX($J$2:$M$3,,MATCH($E$11,$J$2:$M$2,0)),INDEX($J$3:$M$3,,MATCH($F$11,$J$2:$M$2,0)))*E4*1000))),"-") -> 217.43791 | F23: {=IFERROR(INDEX($O$9:$X$9,,MATCH($G$14,$O$8:$X$8,0)),"-")} -> 0 | G23: =IF(OR(입력!$B$3="",입력!$C$3="",입력!$D$5="",입력!$E$4="",입력!$F$4="",입력!$G$5=""),"-",IF(COUNTIFS(B23:F23,"-")>0,"-",SUM(B23:F23))) -> 568.13036 | H23: 1019.5 | J23: 80 | K23: 60.44 | L23: 60.14 | M23: 60.33
A24: (특성화만) 경영대학 | B24: =IFERROR($B$12/G6*B6*1000,"-") -> 89.928058 | C24: =IFERROR($C$12/H6*C6*1000,"-") -> 142.85714 | D24: =IFERROR(INDEX($O$3:$X$5,MATCH(D6,$O$3:$O$5,0),MATCH(D$14,$O$3:$X$3,0)),"-") -> 150 | E24: =IFERROR(SUM(INDEX($K$3:$M$103,MATCH($E$13,$J$3:$J$103,0),MATCH($E$11,$K$2:$M$2,0)),INDEX($K$3:$M$103,MATCH($F$13,$J$3:$J$103,0),MATCH($F$11,$K$2:$M$2,0)))/SUM(INDEX($J$2:$M$3,,MATCH($E$11,$J$2:$M$2,0)),INDEX($J$3:$M$3,,MATCH($F$11,$J$2:$M$2,0)))*E6*1000,"-") -> 140.73651 | F24: {=IFERROR(INDEX($O$9:$X$9,,MATCH($G$14,$O$8:$X$8,0)),"-")} -> 0 | G24: =IF(OR(입력!$B$3="",입력!$C$3="",입력!$D$5="",입력!$E$4="",입력!$F$4="",입력!$G$5=""),"-",IF(COUNTIFS(B24:F24,"-")>0,"-",SUM(B24:F24))) -> 523.52171 | H24: 1000 | J24: 79 | K24: 60.1 | L24: 59.77 | M24: 59.97
J25: 78 | K25: 59.73 | L25: 59.39 | M25: 59.59
J26: 77 | K26: 59.38 | L26: 58.98 | M26: 59.25
J27: 76 | K27: 59.05 | L27: 58.63 | M27: 58.92
J28: 75 | K28: 58.74 | L28: 58.22 | M28: 58.51
J29: 74 | K29: 58.43 | L29: 57.9 | M29: 58.14
J30: 73 | K30: 57.98 | L30: 57.54 | M30: 57.76
J31: 72 | K31: 57.52 | L31: 57.25 | M31: 57.42
J32: 71 | K32: 57.17 | L32: 56.96 | M32: 57.06
J33: 70 | K33: 56.82 | L33: 56.66 | M33: 56.71
J34: 69 | K34: 56.48 | L34: 56.32 | M34: 56.33
J35: 68 | K35: 56.11 | L35: 55.91 | M35: 55.88
J36: 67 | K36: 55.74 | L36: 55.47 | M36: 55.53
... J103: 0 | K103: 31 | L103: 30.63 | M103: 30
